BEGIN:VCALENDAR
VERSION:2.0
PRODID:-//Wu Dao - Die Kung Fu Schule in Hamburg - ECPv6.15.18//NONSGML v1.0//EN
CALSCALE:GREGORIAN
METHOD:PUBLISH
X-WR-CALNAME:Wu Dao - Die Kung Fu Schule in Hamburg
X-ORIGINAL-URL:https://www.wudao.de
X-WR-CALDESC:Veranstaltungen für Wu Dao - Die Kung Fu Schule in Hamburg
REFRESH-INTERVAL;VALUE=DURATION:PT1H
X-Robots-Tag:noindex
X-PUBLISHED-TTL:PT1H
BEGIN:VTIMEZONE
TZID:Europe/Berlin
BEGIN:DAYLIGHT
TZOFFSETFROM:+0100
TZOFFSETTO:+0200
TZNAME:CEST
DTSTART:20250330T010000
END:DAYLIGHT
BEGIN:STANDARD
TZOFFSETFROM:+0200
TZOFFSETTO:+0100
TZNAME:CET
DTSTART:20251026T010000
END:STANDARD
BEGIN:DAYLIGHT
TZOFFSETFROM:+0100
TZOFFSETTO:+0200
TZNAME:CEST
DTSTART:20260329T010000
END:DAYLIGHT
BEGIN:STANDARD
TZOFFSETFROM:+0200
TZOFFSETTO:+0100
TZNAME:CET
DTSTART:20261025T010000
END:STANDARD
BEGIN:DAYLIGHT
TZOFFSETFROM:+0100
TZOFFSETTO:+0200
TZNAME:CEST
DTSTART:20270328T010000
END:DAYLIGHT
BEGIN:STANDARD
TZOFFSETFROM:+0200
TZOFFSETTO:+0100
TZNAME:CET
DTSTART:20271031T010000
END:STANDARD
END:VTIMEZONE
BEGIN:VEVENT
DTSTART;VALUE=DATE:20260426
DTEND;VALUE=DATE:20260427
DTSTAMP:20260421T124728
CREATED:20260415T112111Z
LAST-MODIFIED:20260415T112320Z
UID:13707-1777161600-1777247999@www.wudao.de
SUMMARY:Zui Jian Seminar
DESCRIPTION:Erlebt und erlernt die Techniken des „Betrunkenen Schwerts“ in Tradition unseres Altmeisters Zhang Wan Fu. \nUnterrichtet wird das ganze von unserem „legendären“ Shifu Björn. \nLasst Euch diese einmalige Gelegenheit nicht entgehen und erweitert Euer Wissen und Können mit den Techniken des „Betrunkenen Schwerts“. \nAnmeldung unter info@wudao.de oder per Whats App. \n 
URL:https://www.wudao.de/event/zui-jian-seminar/
LOCATION:Wu Dao\, Horner Weg 282\, Hamburg\, HH\, 22111\, Deutschland
CATEGORIES:NEWS!,Schwertkampf,Special Days,Wu Dao Events,Zusatzseminar
ATTACH;FMTTYPE=image/png:https://www.wudao.de/wp-content/uploads/2026/04/Zui-Jian.png
END:VEVENT
END:VCALENDAR